BEGIN:VCALENDAR
VERSION:2.0
PRODID:-//Grace Academy - ECPv6.15.20//NONSGML v1.0//EN
CALSCALE:GREGORIAN
METHOD:PUBLISH
X-WR-CALNAME:Grace Academy
X-ORIGINAL-URL:https://graceacademydimapur.com
X-WR-CALDESC:Events for Grace Academy
REFRESH-INTERVAL;VALUE=DURATION:PT1H
X-Robots-Tag:noindex
X-PUBLISHED-TTL:PT1H
BEGIN:VTIMEZONE
TZID:Asia/Kolkata
BEGIN:STANDARD
TZOFFSETFROM:+0530
TZOFFSETTO:+0530
TZNAME:IST
DTSTART:20220101T000000
END:STANDARD
END:VTIMEZONE
BEGIN:VEVENT
DTSTART;TZID=Asia/Kolkata:20230506T080000
DTEND;TZID=Asia/Kolkata:20230506T170000
DTSTAMP:20260426T095749
CREATED:20230208T072956Z
LAST-MODIFIED:20230223T044936Z
UID:11972-1683360000-1683392400@graceacademydimapur.com
SUMMARY:Mental Aptitude Competition (Class 1 to 7)\, 2023
DESCRIPTION:Mental Aptitude Competition will be held on 6th May 2023\, where all the students from class 1 to 7 will take part. The questions for the competition will be based on English vocabulary\, simple arithmetic\, mental ability etc..
URL:https://graceacademydimapur.com/event/mental-aptitude-competition-class-1-to-7-2023/
END:VEVENT
END:VCALENDAR