BEGIN:VCALENDAR
VERSION:2.0
PRODID:-//Grace Academy - ECPv6.15.20//NONSGML v1.0//EN
CALSCALE:GREGORIAN
METHOD:PUBLISH
X-WR-CALNAME:Grace Academy
X-ORIGINAL-URL:https://graceacademydimapur.com
X-WR-CALDESC:Events for Grace Academy
REFRESH-INTERVAL;VALUE=DURATION:PT1H
X-Robots-Tag:noindex
X-PUBLISHED-TTL:PT1H
BEGIN:VTIMEZONE
TZID:Asia/Kolkata
BEGIN:STANDARD
TZOFFSETFROM:+0530
TZOFFSETTO:+0530
TZNAME:IST
DTSTART:20220101T000000
END:STANDARD
END:VTIMEZONE
BEGIN:VEVENT
DTSTART;TZID=Asia/Kolkata:20230603T080000
DTEND;TZID=Asia/Kolkata:20230603T170000
DTSTAMP:20260426T083800
CREATED:20230208T074436Z
LAST-MODIFIED:20230223T044828Z
UID:11976-1685779200-1685811600@graceacademydimapur.com
SUMMARY:Math Quiz (Class 3 & 4)\, 2023
DESCRIPTION:Math quiz for class 3 & 4 will be held on 3rd June 2023\, where all the students of class 3 & 4 will take be taking part.
URL:https://graceacademydimapur.com/event/math-quiz-class-3-4-2023/
END:VEVENT
END:VCALENDAR