BEGIN:VCALENDAR
VERSION:2.0
PRODID:-//Grace Academy - ECPv6.15.20//NONSGML v1.0//EN
CALSCALE:GREGORIAN
METHOD:PUBLISH
X-ORIGINAL-URL:https://graceacademydimapur.com
X-WR-CALDESC:Events for Grace Academy
REFRESH-INTERVAL;VALUE=DURATION:PT1H
X-Robots-Tag:noindex
X-PUBLISHED-TTL:PT1H
BEGIN:VTIMEZONE
TZID:Asia/Kolkata
BEGIN:STANDARD
TZOFFSETFROM:+0530
TZOFFSETTO:+0530
TZNAME:IST
DTSTART:20220101T000000
END:STANDARD
END:VTIMEZONE
BEGIN:VEVENT
DTSTART;TZID=Asia/Kolkata:20230707T080000
DTEND;TZID=Asia/Kolkata:20230707T170000
DTSTAMP:20260426T072000
CREATED:20230621T083558Z
LAST-MODIFIED:20230621T083558Z
UID:15939-1688716800-1688749200@graceacademydimapur.com
SUMMARY:Talent Show (Kindergarten Section)\, 2023
DESCRIPTION:Talent Show Competition for the kindergarten section will be held on 7th July\, 2023.
URL:https://graceacademydimapur.com/event/talent-show-kindergarten-section-2023/
END:VEVENT
END:VCALENDAR