BEGIN:VCALENDAR
VERSION:2.0
PRODID:-//Grace Academy - ECPv6.15.20//NONSGML v1.0//EN
CALSCALE:GREGORIAN
METHOD:PUBLISH
X-WR-CALNAME:Grace Academy
X-ORIGINAL-URL:https://graceacademydimapur.com
X-WR-CALDESC:Events for Grace Academy
REFRESH-INTERVAL;VALUE=DURATION:PT1H
X-Robots-Tag:noindex
X-PUBLISHED-TTL:PT1H
BEGIN:VTIMEZONE
TZID:Asia/Kolkata
BEGIN:STANDARD
TZOFFSETFROM:+0530
TZOFFSETTO:+0530
TZNAME:IST
DTSTART:20240101T000000
END:STANDARD
END:VTIMEZONE
BEGIN:VEVENT
DTSTART;TZID=Asia/Kolkata:20250531T080000
DTEND;TZID=Asia/Kolkata:20250531T170000
DTSTAMP:20260424T185753
CREATED:20240219T082639Z
LAST-MODIFIED:20250124T041155Z
UID:21482-1748678400-1748710800@graceacademydimapur.com
SUMMARY:Quiz Competition ( Class 8 & 9)\, 2025
DESCRIPTION:Quiz Competition for the students of class 8 & 9 will be held on 31st May 2025\, The Quiz Competition offers a platform for the students to showcase their intellect\, critical thinking skills\, and collaborative spirit in a dynamic and competitive environment. Divided into groups\, participants will face a series of challenging questions spanning various subjects\, including science\, mathematics\, literature\, history\, current affairs\, and more.
URL:https://graceacademydimapur.com/event/quiz-competition-class-7-8-2024/
END:VEVENT
END:VCALENDAR