BEGIN:VCALENDAR
VERSION:2.0
PRODID:-//Grace Academy - ECPv6.15.20//NONSGML v1.0//EN
CALSCALE:GREGORIAN
METHOD:PUBLISH
X-WR-CALNAME:Grace Academy
X-ORIGINAL-URL:https://graceacademydimapur.com
X-WR-CALDESC:Events for Grace Academy
REFRESH-INTERVAL;VALUE=DURATION:PT1H
X-Robots-Tag:noindex
X-PUBLISHED-TTL:PT1H
BEGIN:VTIMEZONE
TZID:Asia/Kolkata
BEGIN:STANDARD
TZOFFSETFROM:+0530
TZOFFSETTO:+0530
TZNAME:IST
DTSTART:20240101T000000
END:STANDARD
END:VTIMEZONE
BEGIN:VEVENT
DTSTART;TZID=Asia/Kolkata:20250806T080000
DTEND;TZID=Asia/Kolkata:20250806T170000
DTSTAMP:20260424T155303
CREATED:20240219T075658Z
LAST-MODIFIED:20250124T051037Z
UID:21472-1754467200-1754499600@graceacademydimapur.com
SUMMARY:Extempore Competition (Class 8 & 9)\, 2025
DESCRIPTION:Extempore Competition 2025\, designed exclusively for students in classes 8 and 9! This exhilarating event is scheduled to take place on the 6th of August\, offering an unparalleled opportunity for our budding orators to showcase their eloquence\, confidence\, and wit. \nThe Extempore Competition challenges students to think on their feet and deliver compelling speeches on impromptu topics. Participants will draw topics at random and have a limited time to prepare their speeches before presenting them to a panel of judges and their peers.
URL:https://graceacademydimapur.com/event/extempore-competition-class-6-7-8-2024/
END:VEVENT
END:VCALENDAR