BEGIN:VCALENDAR
VERSION:2.0
PRODID:-//Grace Academy - ECPv6.15.20//NONSGML v1.0//EN
CALSCALE:GREGORIAN
METHOD:PUBLISH
X-ORIGINAL-URL:https://graceacademydimapur.com
X-WR-CALDESC:Events for Grace Academy
REFRESH-INTERVAL;VALUE=DURATION:PT1H
X-Robots-Tag:noindex
X-PUBLISHED-TTL:PT1H
BEGIN:VTIMEZONE
TZID:Asia/Kolkata
BEGIN:STANDARD
TZOFFSETFROM:+0530
TZOFFSETTO:+0530
TZNAME:IST
DTSTART:20240101T000000
END:STANDARD
END:VTIMEZONE
BEGIN:VEVENT
DTSTART;TZID=Asia/Kolkata:20260227T080000
DTEND;TZID=Asia/Kolkata:20260308T170000
DTSTAMP:20260424T032428
CREATED:20260217T075019Z
LAST-MODIFIED:20260223T071956Z
UID:26487-1772179200-1772989200@graceacademydimapur.com
SUMMARY:Outing (Class A)\, 2026
DESCRIPTION:The students of Class A will enjoy an educational outing on February 27th\, 2026. This special trip is planned to give our young learners a fun and hands-on experience beyond the classroom. Through exploring new surroundings\, children will observe\, discover\, and learn in an engaging and meaningful way. The outing will help spark their curiosity\, build confidence\, and strengthen their understanding of the world around them. It promises to be a joyful\, safe\, and memorable experience for our little learners.
URL:https://graceacademydimapur.com/event/outing-class-b-2026/
END:VEVENT
BEGIN:VEVENT
DTSTART;TZID=Asia/Kolkata:20260227T080000
DTEND;TZID=Asia/Kolkata:20260227T170000
DTSTAMP:20260424T032428
CREATED:20260217T043604Z
LAST-MODIFIED:20260223T071822Z
UID:26484-1772179200-1772211600@graceacademydimapur.com
SUMMARY:Outing (Class B)\, 2026
DESCRIPTION:The students of Class B will participate in an educational outing on February 27th\, 2025. This trip is planned to offer a valuable learning experience outside the classroom environment. Through this excursion\, students will have the opportunity to explore new places\, gain practical knowledge\, and connect their classroom lessons with real-world experiences. The outing is expected to be both informative and enjoyable\, encouraging curiosity\, teamwork\, and a deeper understanding of their surroundings.
URL:https://graceacademydimapur.com/event/outing-class-a-2026/
END:VEVENT
BEGIN:VEVENT
DTSTART;TZID=Asia/Kolkata:20260213T080000
DTEND;TZID=Asia/Kolkata:20260213T170000
DTSTAMP:20260424T032428
CREATED:20260224T042324Z
LAST-MODIFIED:20260224T043411Z
UID:26541-1770969600-1771002000@graceacademydimapur.com
SUMMARY:Family Craft (Kindergarten)\, 2026
DESCRIPTION:The Family Craft activity for Kindergarten in 2026 will be held on February 13. On this special day\, students will participate in fun and creative art projects based on the theme of family. Through drawing\, coloring\, and simple craftwork\, children will express their love and appreciation for their family members. This engaging session will not only nurture their creativity and artistic abilities but also help them understand the importance of family bonds. It is sure to be a joyful\, meaningful\, and memorable experience for our young learners.
URL:https://graceacademydimapur.com/event/family-craft-kindergarten-2026-3/
END:VEVENT
BEGIN:VEVENT
DTSTART;TZID=Asia/Kolkata:20260115T080000
DTEND;TZID=Asia/Kolkata:20260115T170000
DTSTAMP:20260424T032428
CREATED:20260217T041840Z
LAST-MODIFIED:20260224T042734Z
UID:26480-1768464000-1768496400@graceacademydimapur.com
SUMMARY:First Day of School (2026)
DESCRIPTION:The first day of school in 2026 marks the start of an exciting new academic journey. Students walk into their classrooms with bright smiles and hopeful hearts\, ready to explore new subjects\, meet new friends\, and embrace fresh opportunities. The atmosphere is filled with enthusiasm and curiosity\, as everyone looks forward to the challenges and achievements that lie ahead. Teachers warmly welcome their students\, encouraging them to dream big\, set meaningful goals\, and grow both academically and personally. It is a day full of promise and positivity\, where every interaction and lesson becomes a stepping stone toward a successful and memorable school year.
URL:https://graceacademydimapur.com/event/first-day-of-school-2026/
END:VEVENT
BEGIN:VEVENT
DTSTART;TZID=Asia/Kolkata:20251208T080000
DTEND;TZID=Asia/Kolkata:20251208T170000
DTSTAMP:20260424T032428
CREATED:20230223T074053Z
LAST-MODIFIED:20260123T035303Z
UID:12280-1765180800-1765213200@graceacademydimapur.com
SUMMARY:Annual Day (Kindergarten Section)\, 2025
DESCRIPTION:“Annual Day 2025” for the students of Kindergarten Section will be held on 11th December\, 2025. During the “Annual Day”\, the students will be given platform to showcase their learning and talents. Students will perform on various items such as dances\, drama\, solo and group songs\, choreography\, musical piece\, etc. \nTeachers and parents will also see the progress of the students on their learning throughout the year. \nThe school warmly welcome each and every parent\, guardian and well-wisher to be a part of the “Annual Day”. \n 
URL:https://graceacademydimapur.com/event/annual-day-kindergarten-section-2023/
END:VEVENT
BEGIN:VEVENT
DTSTART;TZID=Asia/Kolkata:20251122T080000
DTEND;TZID=Asia/Kolkata:20251122T170000
DTSTAMP:20260424T032428
CREATED:20240219T085620Z
LAST-MODIFIED:20250124T072924Z
UID:21490-1763798400-1763830800@graceacademydimapur.com
SUMMARY:Annual Day (Primary Section)\, 2025
DESCRIPTION:Annual Day for the Primary Section will be held on 22nd November 2025\, This grand event promises to be a spectacular showcase of talent\, creativity\, and achievement\, with every student given the opportunity to participate and shine.
URL:https://graceacademydimapur.com/event/annual-day-primary-section-2024/
END:VEVENT
BEGIN:VEVENT
DTSTART;TZID=Asia/Kolkata:20251117T080000
DTEND;TZID=Asia/Kolkata:20251118T170000
DTSTAMP:20260424T032428
CREATED:20250129T045217Z
LAST-MODIFIED:20250129T045217Z
UID:22683-1763366400-1763485200@graceacademydimapur.com
SUMMARY:Sports Competition (Kindergarten)\, 2025
DESCRIPTION:The Kindergarten Sports Competition 2025 will be held on November 17-18 in the school premises\, where all children will participate in various fun games. This exciting event aims to promote physical activity\, teamwork\, and enjoyment among young learners\, creating a lively and engaging atmosphere for everyone involved.
URL:https://graceacademydimapur.com/event/sports-competition-kindergarten-2025/
END:VEVENT
BEGIN:VEVENT
DTSTART;TZID=Asia/Kolkata:20251111T080000
DTEND;TZID=Asia/Kolkata:20251111T170000
DTSTAMP:20260424T032428
CREATED:20250129T044927Z
LAST-MODIFIED:20250129T044927Z
UID:22681-1762848000-1762880400@graceacademydimapur.com
SUMMARY:Reading Assessment (Class B)\, 2025
DESCRIPTION:The Reading Assessment for ClassesB is scheduled to take place on Novemeber 11\, 2025. This assessment aims to evaluate the reading abilities and comprehension skills of young learners\, providing valuable insights into their progress and areas for improvement.
URL:https://graceacademydimapur.com/event/reading-assessment-class-b-2025-2/
END:VEVENT
BEGIN:VEVENT
DTSTART;TZID=Asia/Kolkata:20251103T080000
DTEND;TZID=Asia/Kolkata:20251104T170000
DTSTAMP:20260424T032428
CREATED:20240219T090939Z
LAST-MODIFIED:20250124T072700Z
UID:21492-1762156800-1762275600@graceacademydimapur.com
SUMMARY:Sports Competition (Primary Section)\, 2025
DESCRIPTION:Sports Competition will be held on the 3rd and 4th of November 2025\, this exciting event will provide students with the opportunity to showcase their sporting talents and compete in a variety of exhilarating sports. \nThe Sports Competition offers a platform for students to engage in friendly competition\, promote physical fitness\, and demonstrate their skills in various sports disciplines. From track and field events to team sports and individual competitions\, there will be something for everyone to participate in and enjoy. \nThis event will not just be about winning; it’s about fostering sportsmanship\, teamwork\, and a love for physical activity among our students. By participating in the Sports Competition\, students will learn valuable lessons in resilience\, determination\, and fair play\, regardless of the outcome. It will serve as a celebration of school spirit and community pride as students\, teachers\, come together to support and cheer on their peers. Through shared excitement\, encouragement\, and camaraderie.
URL:https://graceacademydimapur.com/event/sports-competition-2024/
END:VEVENT
BEGIN:VEVENT
DTSTART;TZID=Asia/Kolkata:20251031T080000
DTEND;TZID=Asia/Kolkata:20251031T170000
DTSTAMP:20260424T032428
CREATED:20240219T083738Z
LAST-MODIFIED:20250124T072302Z
UID:21486-1761897600-1761930000@graceacademydimapur.com
SUMMARY:Computer Science Competition (Class 6 to 8)\, 2025
DESCRIPTION:Computer Science Competition 2024 for the students of class 6 to 8 will be held on 31st of October\, offering an exciting opportunity to showcase their skills and creativity in the field of computer science. The Computer Science Competition provides a platform for students to demonstrate their proficiency in various aspects of computing\, including programming\, problem-solving\, and digital literacy. Participants will engage in a series of challenges and tasks designed to test their knowledge and expertise in computer science concepts and applications.
URL:https://graceacademydimapur.com/event/computer-science-competition-class-6-to-8-2024/
END:VEVENT
BEGIN:VEVENT
DTSTART;TZID=Asia/Kolkata:20251029T080000
DTEND;TZID=Asia/Kolkata:20251029T170000
DTSTAMP:20260424T032428
CREATED:20250129T044403Z
LAST-MODIFIED:20250129T044403Z
UID:22677-1761724800-1761757200@graceacademydimapur.com
SUMMARY:Zoo Trip (Nursery)\, 2025
DESCRIPTION:Class Nursery will be going on an exciting zoo trip on October 29\, 2025. This educational outing will provide students with the opportunity to observe various animals up close\, learn about their habitats\, and understand the importance of wildlife conservation. It will be a fun-filled day where children can explore different animal enclosures\, interact with zookeepers\, and participate in engaging activities. The trip aims to enhance their knowledge of biodiversity while fostering curiosity and appreciation for nature.
URL:https://graceacademydimapur.com/event/zoo-trip-nursery-2025/
END:VEVENT
BEGIN:VEVENT
DTSTART;TZID=Asia/Kolkata:20251028T080000
DTEND;TZID=Asia/Kolkata:20251028T170000
DTSTAMP:20260424T032428
CREATED:20250129T043957Z
LAST-MODIFIED:20250129T043957Z
UID:22674-1761638400-1761670800@graceacademydimapur.com
SUMMARY:Zoo Trip (Class A)\, 2025
DESCRIPTION:Class B will be going on an exciting zoo trip on October 27\, 2025. This educational outing will provide students with the opportunity to observe various animals up close\, learn about their habitats\, and understand the importance of wildlife conservation. It will be a fun-filled day where children can explore different animal enclosures\, interact with zookeepers\, and participate in engaging activities. The trip aims to enhance their knowledge of biodiversity while fostering a sense of curiosity and appreciation for nature. Students are encouraged to bring their essentials\, including water bottles\, snacks\, and comfortable attire\, to ensure a smooth and enjoyable experience.
URL:https://graceacademydimapur.com/event/zoo-trip-class-a-2025/
END:VEVENT
BEGIN:VEVENT
DTSTART;TZID=Asia/Kolkata:20251027T080000
DTEND;TZID=Asia/Kolkata:20251027T170000
DTSTAMP:20260424T032428
CREATED:20250129T042552Z
LAST-MODIFIED:20250129T042552Z
UID:22670-1761552000-1761584400@graceacademydimapur.com
SUMMARY:Zoo Trip (Class B)\, 2025
DESCRIPTION:Class B will be going on an exciting zoo trip on October 27\, 2025. This educational outing will provide students with the opportunity to observe various animals up close\, learn about their habitats\, and understand the importance of wildlife conservation. It will be a fun-filled day where children can explore different animal enclosures\, interact with zookeepers\, and participate in engaging activities. The trip aims to enhance their knowledge of biodiversity while fostering a sense of curiosity and appreciation for nature.
URL:https://graceacademydimapur.com/event/zoo-trip-class-b-2025/
END:VEVENT
BEGIN:VEVENT
DTSTART;TZID=Asia/Kolkata:20251024T080000
DTEND;TZID=Asia/Kolkata:20251024T170000
DTSTAMP:20260424T032428
CREATED:20240222T052123Z
LAST-MODIFIED:20250129T042639Z
UID:21519-1761292800-1761325200@graceacademydimapur.com
SUMMARY:Math Quiz (Class A)\, 2025
DESCRIPTION:Math Quiz for the students of Class A\, will be held on 24th of October\, 2025. This exciting competition will engage our students in a dynamic learning experience focused on mathematics. Students will be divided into groups and challenged with a series of math questions designed to test their problem-solving skills and mathematical knowledge. Through this interactive quiz format\, students will have the opportunity to apply mathematical concepts in a fun and competitive environment\, fostering critical thinking and teamwork skills.
URL:https://graceacademydimapur.com/event/math-quiz-class-a-2024/
END:VEVENT
BEGIN:VEVENT
DTSTART;TZID=Asia/Kolkata:20251018T080000
DTEND;TZID=Asia/Kolkata:20251018T170000
DTSTAMP:20260424T032428
CREATED:20250124T071537Z
LAST-MODIFIED:20250124T071537Z
UID:22618-1760774400-1760806800@graceacademydimapur.com
SUMMARY:Exhibition (Class 1 to 8)\, 2025
DESCRIPTION:The Exhibition for Classes 1 to 8 is scheduled to be held on October 18th\, 2025. This event will serve as a platform for students to showcase their creativity\, knowledge\, and skills through various displays and projects\, fostering a spirit of innovation and learning across diverse subjects.
URL:https://graceacademydimapur.com/event/exhibition-class-1-to-8-2025/
END:VEVENT
BEGIN:VEVENT
DTSTART;TZID=Asia/Kolkata:20250925T080000
DTEND;TZID=Asia/Kolkata:20250925T170000
DTSTAMP:20260424T032428
CREATED:20250124T070209Z
LAST-MODIFIED:20250124T070209Z
UID:22614-1758787200-1758819600@graceacademydimapur.com
SUMMARY:Cultural Day\, 2025
DESCRIPTION:Grace Academy will be hosting its Cultural Day on September 25th\, 2025. The event will celebrate the rich diversity of traditions and heritage while helping students understand and appreciate the value of their own traditional and cultural values.
URL:https://graceacademydimapur.com/event/cultural-day-2025/
END:VEVENT
BEGIN:VEVENT
DTSTART;TZID=Asia/Kolkata:20250920T080000
DTEND;TZID=Asia/Kolkata:20250920T170000
DTSTAMP:20260424T032428
CREATED:20250124T065206Z
LAST-MODIFIED:20250124T065206Z
UID:22610-1758355200-1758387600@graceacademydimapur.com
SUMMARY:Math Exhibition (Class 1 to 4)\, 2025
DESCRIPTION:The Math Exhibition for Classes 1 to 4 is scheduled to be held on September 20th\, 2025. This event will provide young learners with an opportunity to showcase their mathematical skills and creativity through various interactive displays and activities\, fostering a deeper understanding and appreciation of the subject.
URL:https://graceacademydimapur.com/event/math-exhibition-class-1-to-4-2025/
END:VEVENT
BEGIN:VEVENT
DTSTART;TZID=Asia/Kolkata:20250917T080000
DTEND;TZID=Asia/Kolkata:20250917T170000
DTSTAMP:20260424T032428
CREATED:20250124T064219Z
LAST-MODIFIED:20250124T064735Z
UID:22606-1758096000-1758128400@graceacademydimapur.com
SUMMARY:Math Exhibition (Class 5\, 6 & 7)\, 2025
DESCRIPTION:The Math Exhibition 2025\, for students from classes 5\, 6 & 7\, is set to captivate minds and ignite curiosity on the 4th of September . This eagerly awaited exhibition promises an inclusive and enriching experience where every student will have the chance to participate and shine. The Math Exhibition is not merely a showcase of mathematical concepts; it’s a celebration of creativity\, exploration\, and discovery. With a wide range of interactive displays\, engaging activities\, and collaborative projects\, students will embark on a journey of mathematical exploration.
URL:https://graceacademydimapur.com/event/math-exhibition-class-5-6-7-2025/
END:VEVENT
BEGIN:VEVENT
DTSTART;TZID=Asia/Kolkata:20250904T080000
DTEND;TZID=Asia/Kolkata:20250904T170000
DTSTAMP:20260424T032428
CREATED:20240219T073314Z
LAST-MODIFIED:20250124T063236Z
UID:21464-1756972800-1757005200@graceacademydimapur.com
SUMMARY:Math Exhibition (Class 8 & 9)\, 2025
DESCRIPTION:Grace Academy will be hosting Math Exhibition on 4rd of August 2024\, for students in classes 8 & 9. This event aims to be a celebration of mathematical creativity\, innovation\, and problem-solving prowess\, where every student will have the opportunity to showcase their mathematical talents and discoveries.
URL:https://graceacademydimapur.com/event/math-exhibition-class-5-to-8-2024/
END:VEVENT
BEGIN:VEVENT
DTSTART;TZID=Asia/Kolkata:20250830T080000
DTEND;TZID=Asia/Kolkata:20250830T170000
DTSTAMP:20260424T032428
CREATED:20240219T082210Z
LAST-MODIFIED:20250124T062737Z
UID:21480-1756540800-1756573200@graceacademydimapur.com
SUMMARY:Quiz Competition (Class 3 & 4)\, 2025
DESCRIPTION:Quiz Competition 2025 for the students of class 3 & 4 will be held on the 30th of August 2025\, this event serves to challenge and inspire our young scholars with a diverse array of general knowledge questions. It will offer students the opportunity to showcase their knowledge\, critical thinking skills\, and camaraderie in a fun and competitive environment. Students will be divided into groups and presented with general questions spanning various fields\, including science\, mathematics\, literature\, history\, and more. \nThis event is not just about testing knowledge; it’s about fostering curiosity\, collaboration\, and a love for learning among our students. By working together to tackle challenging questions and problem-solving tasks\, students will develop essential skills that will serve them well throughout their academic journey and beyond.
URL:https://graceacademydimapur.com/event/quiz-competition-class-3-4-2024/
END:VEVENT
BEGIN:VEVENT
DTSTART;TZID=Asia/Kolkata:20250828T080000
DTEND;TZID=Asia/Kolkata:20250828T170000
DTSTAMP:20260424T032428
CREATED:20240219T074012Z
LAST-MODIFIED:20250124T062218Z
UID:21466-1756368000-1756400400@graceacademydimapur.com
SUMMARY:Badminton & Table Tennis Competition (Class 1 to 9)\, 2025
DESCRIPTION:In celebration of National Sports Day\, Grace Academy will be hosting Badminton & Table Tennis Competition 2025\, on 28th of August. This eagerly anticipated event is open to students from classes 1 to 9\, providing them with a thrilling opportunity to display their skills\, passion\, and sportsmanship on the court.
URL:https://graceacademydimapur.com/event/badminton-table-tennis-competition-class-3-to-8-2024/
END:VEVENT
BEGIN:VEVENT
DTSTART;TZID=Asia/Kolkata:20250813T000000
DTEND;TZID=Asia/Kolkata:20250813T000000
DTSTAMP:20260424T032428
CREATED:20240221T051912Z
LAST-MODIFIED:20250124T083657Z
UID:21511-1755043200-1755043200@graceacademydimapur.com
SUMMARY:Poem Recitation Competition (Kindergarten Section)\, 2025
DESCRIPTION:Poem Recitation Competition for Kindergarten Section\, will be held on the 13th of September\, 2025. This event will showcase the students’ budding talents in poetry and oral expression. All Kindergarten students will get the opportunity to participate and recite a poem of their choice. This competition will not only promote language development and memorization skills but will also nurture confidence and self-expression among the students.
URL:https://graceacademydimapur.com/event/poem-recitation-competition-kindergarten-section-2024/
END:VEVENT
BEGIN:VEVENT
DTSTART;TZID=Asia/Kolkata:20250811T080000
DTEND;TZID=Asia/Kolkata:20250811T170000
DTSTAMP:20260424T032428
CREATED:20230214T074604Z
LAST-MODIFIED:20250124T052730Z
UID:12102-1754899200-1754931600@graceacademydimapur.com
SUMMARY:Extempore Competition (Class 6 & 7)\, 2025
DESCRIPTION:Extempore competition for the students of class 6 & 7\, will be held on 11th August\, where all the students will be given the opportunity to participate.
URL:https://graceacademydimapur.com/event/extempore-competition-class-6-7/
END:VEVENT
BEGIN:VEVENT
DTSTART;TZID=Asia/Kolkata:20250807T080000
DTEND;TZID=Asia/Kolkata:20250807T170000
DTSTAMP:20260424T032428
CREATED:20240219T080510Z
LAST-MODIFIED:20250124T051219Z
UID:21474-1754553600-1754586000@graceacademydimapur.com
SUMMARY:Extempore Competition (Class 4 & 5)\, 2025
DESCRIPTION:Extempore Competition 2025\, specially designed for students in classes 4 and 5! Scheduled for the 7th of August\, this dynamic event offers a platform for our young speakers to showcase their creativity\, confidence\, and communication skills. The Extempore Competition challenges students to think on their feet and deliver impromptu speeches on a variety of topics. Participants will draw topics randomly and have a short preparation time before presenting their speeches to a panel of judges and their peers. \n 
URL:https://graceacademydimapur.com/event/extempore-competition-class-4-5-2024/
END:VEVENT
BEGIN:VEVENT
DTSTART;TZID=Asia/Kolkata:20250806T080000
DTEND;TZID=Asia/Kolkata:20250806T170000
DTSTAMP:20260424T032428
CREATED:20240219T075658Z
LAST-MODIFIED:20250124T051037Z
UID:21472-1754467200-1754499600@graceacademydimapur.com
SUMMARY:Extempore Competition (Class 8 & 9)\, 2025
DESCRIPTION:Extempore Competition 2025\, designed exclusively for students in classes 8 and 9! This exhilarating event is scheduled to take place on the 6th of August\, offering an unparalleled opportunity for our budding orators to showcase their eloquence\, confidence\, and wit. \nThe Extempore Competition challenges students to think on their feet and deliver compelling speeches on impromptu topics. Participants will draw topics at random and have a limited time to prepare their speeches before presenting them to a panel of judges and their peers.
URL:https://graceacademydimapur.com/event/extempore-competition-class-6-7-8-2024/
END:VEVENT
BEGIN:VEVENT
DTSTART;TZID=Asia/Kolkata:20250802T080000
DTEND;TZID=Asia/Kolkata:20250802T170000
DTSTAMP:20260424T032428
CREATED:20240219T075400Z
LAST-MODIFIED:20250124T045731Z
UID:21470-1754121600-1754154000@graceacademydimapur.com
SUMMARY:Quiz Competition (Class 5 & 6)\, 2025
DESCRIPTION:Quiz Competition 2025\, for students in classes 5 and 6 will be held on the 2nd of August\, this exciting event promises to challenge and inspire our young minds with a diverse array of general knowledge questions. The Quiz Competition offers students the opportunity to showcase their knowledge\, critical thinking skills\, and teamwork abilities in a fun and competitive environment. Students will be divided into groups\, where they will collaborate\, strategize\, and tackle a series of thought-provoking questions covering a wide range of topics\, from history and science to literature and current affairs.
URL:https://graceacademydimapur.com/event/quiz-competition-class-5-6-2024/
END:VEVENT
BEGIN:VEVENT
DTSTART;TZID=Asia/Kolkata:20250701T080000
DTEND;TZID=Asia/Kolkata:20250701T170000
DTSTAMP:20260424T032428
CREATED:20250124T045306Z
LAST-MODIFIED:20250124T045306Z
UID:22588-1751356800-1751389200@graceacademydimapur.com
SUMMARY:Reading Assessment (Class 1\, 2 & 3)\, 2025
DESCRIPTION:The Reading Assessment for Classes 1\, 2\, and 3 is scheduled to take place on July 1st\, 2025. This assessment aims to evaluate the reading abilities and comprehension skills of young learners\, providing valuable insights into their progress and areas for improvement.
URL:https://graceacademydimapur.com/event/reading-assessment-class-1-2-3-2025/
END:VEVENT
BEGIN:VEVENT
DTSTART;TZID=Asia/Kolkata:20250630T080000
DTEND;TZID=Asia/Kolkata:20250705T170000
DTSTAMP:20260424T032428
CREATED:20240219T072530Z
LAST-MODIFIED:20250124T044833Z
UID:21462-1751270400-1751734800@graceacademydimapur.com
SUMMARY:Charity Week\, 2025
DESCRIPTION:From the 30th to the 5th of July 2025\, Grace Academy will come together to make a meaningful difference in the lives of others as we celebrate Charity Week. During this special week\, students will have the opportunity to contribute to bringing smiles to the faces of those in need. Charity Week is a time to reflect on the importance of giving back and supporting our community. It’s about coming together as a school family to make a positive impact and show compassion towards others who may be facing challenges or hardships. \nCharity Week 2024 aims for all the students and members of Grace Academy  to come together and make a positive impact in the lives of others. By contributing to charitable causes and engaging in acts of service and kindness\, students will not only bring smiles to the faces of those in need but also cultivate a spirit of empathy\, compassion\, and generosity that will last a lifetime.
URL:https://graceacademydimapur.com/event/charity-week-2024/
END:VEVENT
BEGIN:VEVENT
DTSTART;TZID=Asia/Kolkata:20250623T080000
DTEND;TZID=Asia/Kolkata:20250627T170000
DTSTAMP:20260424T032428
CREATED:20240219T071736Z
LAST-MODIFIED:20250124T044516Z
UID:21460-1750665600-1751043600@graceacademydimapur.com
SUMMARY:Kindness Week\, 2025
DESCRIPTION:From the 23rd to the 27th of June 2025\, Grace Academy will embark on a journey of compassion and empathy as we celebrate Kindness Week. During this special week\, students will have the opportunity to reflect on and share acts of kindness they have performed each day. \nKindness Week is not just about the grand gestures; it’s about recognizing the power of small acts of kindness that can make a big difference in someone’s day. Whether it’s a smile\, a helping hand\, or a thoughtful gesture\, every act of kindness has the potential to brighten someone’s day and create a ripple effect of positivity. \nEach day during Kindness Week\, students will be encouraged to take a moment to reflect on an act of kindness they performed that day. It could be something as simple as holding the door open for a classmate\, complimenting someone on their work\, or helping a friend with their homework. By reflecting on these acts of kindness\, students will gain a deeper appreciation for the impact they can have on others through their words and actions.In addition to reflecting on their own acts of kindness\, students will also have the opportunity to share their stories with their classmates. Whether it’s through classroom discussions\, writing assignments\, or sharing circles\, students will come together to celebrate and uplift each other’s acts of kindness. This will not only foster a sense of connection and community within the school but also inspire others to spread kindness in their own lives. \nFurthermore\, Kindness Week will serve as a reminder of the importance of empathy and compassion in our daily lives. As students reflect on their own experiences of kindness\, they will also be encouraged to think about ways they can continue to spread kindness beyond the confines of Kindness Week. Whether it’s through volunteering\, advocating for social justice\, or simply being there for a friend in need\, students will be empowered to make kindness a cornerstone of their lives. \nKindness Week 2024 will be an opportunity for the school community to come together and celebrate the power of compassion and empathy. By reflecting on and sharing acts of kindness\, students will not only brighten each other’s days but also cultivate a culture of kindness that extends far beyond the confines of our school walls. Together\, let’s spread kindness and make the world a better place\, one act of kindness at a time.
URL:https://graceacademydimapur.com/event/kindness-week-2024/
END:VEVENT
BEGIN:VEVENT
DTSTART;TZID=Asia/Kolkata:20250613T080000
DTEND;TZID=Asia/Kolkata:20250613T170000
DTSTAMP:20260424T032428
CREATED:20250124T075410Z
LAST-MODIFIED:20250124T075410Z
UID:22634-1749801600-1749834000@graceacademydimapur.com
SUMMARY:Reading Assessment (Class B)\, 2025
DESCRIPTION:The Reading Assessment for Class B students is scheduled to be held on June 13th\, 2025. This assessment aims to evaluate their reading abilities and comprehension skills\, providing valuable insights into their progress and helping identify areas for further development.
URL:https://graceacademydimapur.com/event/reading-assessment-class-b-2025/
END:VEVENT
END:VCALENDAR