BEGIN:VCALENDAR
VERSION:2.0
PRODID:-//Grace Academy - ECPv6.15.20//NONSGML v1.0//EN
CALSCALE:GREGORIAN
METHOD:PUBLISH
X-WR-CALNAME:Grace Academy
X-ORIGINAL-URL:https://graceacademydimapur.com
X-WR-CALDESC:Events for Grace Academy
REFRESH-INTERVAL;VALUE=DURATION:PT1H
X-Robots-Tag:noindex
X-PUBLISHED-TTL:PT1H
BEGIN:VTIMEZONE
TZID:Asia/Kolkata
BEGIN:STANDARD
TZOFFSETFROM:+0530
TZOFFSETTO:+0530
TZNAME:IST
DTSTART:20220101T000000
END:STANDARD
END:VTIMEZONE
BEGIN:VEVENT
DTSTART;TZID=Asia/Kolkata:20250509T080000
DTEND;TZID=Asia/Kolkata:20250509T170000
DTSTAMP:20260424T205048
CREATED:20250124T075601Z
LAST-MODIFIED:20250124T075601Z
UID:22637-1746777600-1746810000@graceacademydimapur.com
SUMMARY:Mother's Day Craft (Kindergarten)\, 2025
DESCRIPTION:The Mother’s Day Craft event for kindergarten students will be held on May 9th\, 2025. On this special day\, students will create thoughtful and creative crafts as a heartfelt gesture to express their love and appreciation for their mothers.
URL:https://graceacademydimapur.com/event/mothers-day-craft-kindergarten-2025/
END:VEVENT
BEGIN:VEVENT
DTSTART;TZID=Asia/Kolkata:20250503T080000
DTEND;TZID=Asia/Kolkata:20250503T170000
DTSTAMP:20260424T205048
CREATED:20240219T063707Z
LAST-MODIFIED:20250124T035725Z
UID:21452-1746259200-1746291600@graceacademydimapur.com
SUMMARY:Essay Writing Competition (Class 5 to 9)\, 2025
DESCRIPTION:Essay writing competitions serve as a cornerstone in the academic development of students\, providing a platform for expression\, critical thinking\, and creativity. Scheduled for the 3rd of May 2025\, the upcoming competition for students of classes 5 to 8 promises to be an enriching experience\, offering diverse topics that challenge young minds and stimulate intellectual growth.
URL:https://graceacademydimapur.com/event/essay-writing-competition-class-5-to-8-2024/
END:VEVENT
BEGIN:VEVENT
DTSTART;TZID=Asia/Kolkata:20250417T080000
DTEND;TZID=Asia/Kolkata:20250417T170000
DTSTAMP:20260424T205048
CREATED:20250124T080115Z
LAST-MODIFIED:20250124T080115Z
UID:22643-1744876800-1744909200@graceacademydimapur.com
SUMMARY:Easter Craft (Kindergarten Section)\, 2025
DESCRIPTION:The Easter Craft activity for the Kindergarten section in 2025 will be held on April 17th. This event will provide an opportunity for young learners to engage in creative and fun activities\, celebrating the festive spirit of Easter. The children will participate in crafting projects that encourage their imagination\, fine motor skills\, and teamwork. It promises to be an exciting and memorable experience for the little ones as they explore their artistic abilities while celebrating the season.
URL:https://graceacademydimapur.com/event/easter-craft-kindergarten-section-2025/
END:VEVENT
BEGIN:VEVENT
DTSTART;TZID=Asia/Kolkata:20250405T000000
DTEND;TZID=Asia/Kolkata:20250405T000000
DTSTAMP:20260424T205048
CREATED:20240219T051911Z
LAST-MODIFIED:20250124T035525Z
UID:21450-1743811200-1743811200@graceacademydimapur.com
SUMMARY:Story Writing Competition (Class 1 to 9)\, 2025
DESCRIPTION:Story Writing Competition will be held on April 5th\, 2025. This event is open to students from classes 1 to 9\, providing an opportunity for them to unleash their creativity and storytelling skills. This competition not only fosters a love for writing but also encourages imagination and critical thinking.
URL:https://graceacademydimapur.com/event/story-writing-competition-class-1-to-8-2024/
END:VEVENT
BEGIN:VEVENT
DTSTART;TZID=Asia/Kolkata:20250404T080000
DTEND;TZID=Asia/Kolkata:20250404T170000
DTSTAMP:20260424T205048
CREATED:20250124T075911Z
LAST-MODIFIED:20250124T075911Z
UID:22640-1743753600-1743786000@graceacademydimapur.com
SUMMARY:Craft and Creativity Day (Kindergarten Section)\, 2025
DESCRIPTION:Craft and Creativity Day for the Kindergarten Section will be held on 4th April 2025\, where students\, along with their teacher\, will showcase their creativity by collaborating on a beautiful artwork.
URL:https://graceacademydimapur.com/event/craft-and-creativity-day-kindergarten-section-2025/
END:VEVENT
BEGIN:VEVENT
DTSTART;TZID=Asia/Kolkata:20250320T080000
DTEND;TZID=Asia/Kolkata:20250320T170000
DTSTAMP:20260424T205048
CREATED:20240219T051227Z
LAST-MODIFIED:20250124T034624Z
UID:21448-1742457600-1742490000@graceacademydimapur.com
SUMMARY:Poem Recitation Competition (Class 1 to 9)\, 2025
DESCRIPTION:A series of exciting poetry competitions has been scheduled for March 20th\, 2025. Students of Classes 1 and 2 will participate in a Poem Recitation Competition\, while an Acrostic Poem Competition will be held for Classes 3 and 4. For Classes 5\, 6\, and 7\, a Limericks Writing Competition is planned\, and students of Classes 8 and 9 will showcase their talent in a Poetry Slam Competition.
URL:https://graceacademydimapur.com/event/poem-recitation-competition-class-1-to-8-2024/
END:VEVENT
BEGIN:VEVENT
DTSTART;TZID=Asia/Kolkata:20250315T000000
DTEND;TZID=Asia/Kolkata:20250315T000000
DTSTAMP:20260424T205048
CREATED:20240219T050556Z
LAST-MODIFIED:20250124T033119Z
UID:21446-1741996800-1741996800@graceacademydimapur.com
SUMMARY:Talent Show  (Class 1 to 9)\, 2025
DESCRIPTION:Grace Academy will be hosting a Talent Show on March 15th\, 2025. This event provides an excellent platform for students from classes 1 to 9 to exhibit their diverse talents in various fields.
URL:https://graceacademydimapur.com/event/talent-show-class-1-to-8-2024/
END:VEVENT
BEGIN:VEVENT
DTSTART;TZID=Asia/Kolkata:20250228T080000
DTEND;TZID=Asia/Kolkata:20250228T170000
DTSTAMP:20260424T205048
CREATED:20250124T083500Z
LAST-MODIFIED:20250124T083500Z
UID:22655-1740729600-1740762000@graceacademydimapur.com
SUMMARY:Outing (Class Nursery)\, 2025
DESCRIPTION:The students of Class Nursery will go for an outing on February 28th\, 2025\, for educational purposes. This outing is designed to provide a practical and engaging learning experience beyond the classroom. It will allow the students to explore new surroundings\, enhance their understanding of various topics\, and develop a deeper appreciation for the world around them. The activity promises to be both enriching and enjoyable\, fostering curiosity and experiential learning. \n\n\n\n\n\n\n \n\n \n4o
URL:https://graceacademydimapur.com/event/outing-class-nursery-2025/
END:VEVENT
BEGIN:VEVENT
DTSTART;TZID=Asia/Kolkata:20250221T080000
DTEND;TZID=Asia/Kolkata:20250221T170000
DTSTAMP:20260424T205048
CREATED:20250124T083336Z
LAST-MODIFIED:20250124T083336Z
UID:22652-1740124800-1740157200@graceacademydimapur.com
SUMMARY:Outing (Class A)\, 2025
DESCRIPTION:The students of Class A will go for an outing on February 21st\, 2025\, for educational purposes. This outing is designed to provide a practical and engaging learning experience beyond the classroom. It will allow the students to explore new surroundings\, enhance their understanding of various topics\, and develop a deeper appreciation for the world around them. The activity promises to be both enriching and enjoyable\, fostering curiosity and experiential learning. \n\n\n\n\n\n\n 
URL:https://graceacademydimapur.com/event/outing-class-a-2025/
END:VEVENT
BEGIN:VEVENT
DTSTART;TZID=Asia/Kolkata:20250214T080000
DTEND;TZID=Asia/Kolkata:20250214T170000
DTSTAMP:20260424T205048
CREATED:20250124T080543Z
LAST-MODIFIED:20250124T080543Z
UID:22649-1739520000-1739552400@graceacademydimapur.com
SUMMARY:Family Craft (Kindergarten)\, 2025
DESCRIPTION:The Family Craft activity for Kindergarten in 2025 will take place on February 14th. During this session\, students will engage in art and creative projects centered around the theme of their family. They will have the opportunity to express their love and appreciation for their family members through various craft activities\, helping to strengthen their understanding of family bonds while enhancing their artistic skills. It promises to be a heartwarming and imaginative experience for the young learners.
URL:https://graceacademydimapur.com/event/family-craft-kindergarten-2025/
END:VEVENT
BEGIN:VEVENT
DTSTART;TZID=Asia/Kolkata:20250213T080000
DTEND;TZID=Asia/Kolkata:20250213T170000
DTSTAMP:20260424T205048
CREATED:20250124T080328Z
LAST-MODIFIED:20250124T080328Z
UID:22646-1739433600-1739466000@graceacademydimapur.com
SUMMARY:Outing (Class B)\, 2025
DESCRIPTION:The students of Class B will go for an outing on February 13th\, 2025\, for educational purposes. This outing aims to provide a hands-on learning experience outside the classroom\, allowing the children to explore new environments and gain practical knowledge related to their curriculum. It will be an exciting and enriching experience for the students\, offering them the chance to apply their learning in a real-world context while fostering curiosity and exploration.
URL:https://graceacademydimapur.com/event/outing-class-b-2025/
END:VEVENT
BEGIN:VEVENT
DTSTART;TZID=Asia/Kolkata:20250115T080000
DTEND;TZID=Asia/Kolkata:20250115T170000
DTSTAMP:20260424T205048
CREATED:20250124T032815Z
LAST-MODIFIED:20250124T032815Z
UID:22567-1736928000-1736960400@graceacademydimapur.com
SUMMARY:First Day Of School (2025)
DESCRIPTION:The first day of school in 2025 marks the beginning of a brand-new academic year\, filled with excitement and anticipation. Students eagerly step into their classrooms\, ready to embark on a journey of learning\, growth\, and discovery. The air buzzes with the energy of new beginnings\, as fresh opportunities and challenges await. Teachers and students alike are inspired to set goals\, build friendships\, and make the most of the year ahead. It’s a day of promise\, where every smile\, lesson\, and shared moment lays the foundation for an enriching and unforgettable academic experience.
URL:https://graceacademydimapur.com/event/first-day-of-school-2025/
END:VEVENT
BEGIN:VEVENT
DTSTART;TZID=Asia/Kolkata:20241207T080000
DTEND;TZID=Asia/Kolkata:20241207T170000
DTSTAMP:20260424T205048
CREATED:20240222T063957Z
LAST-MODIFIED:20250123T175732Z
UID:21527-1733558400-1733590800@graceacademydimapur.com
SUMMARY:Annual Day (Kindergarten)\, 2024
DESCRIPTION:Annual Day is set to take place on December 7th\, 2024\, promising a delightful showcase of talent and enthusiasm as all students eagerly participate. This special event marks a culmination of the hard work and growth achieved throughout the year\, offering a platform for young learners to shine brightly. From lively performances to heartwarming presentations\, the Annual Day will be a celebration of achievements\, creativity\, and the spirit of togetherness. Parents\, teachers\, and students alike eagerly await this joyous occasion\, ready to witness the boundless energy and innocence that characterize kindergarten years. It’s a day filled with laughter\, applause\, and cherished memories that will be treasured for years to come. \n\n\n\n\n\n 
URL:https://graceacademydimapur.com/event/annual-day-kindergarten-2024/
END:VEVENT
BEGIN:VEVENT
DTSTART;TZID=Asia/Kolkata:20241122T080000
DTEND;TZID=Asia/Kolkata:20241122T170000
DTSTAMP:20260424T205048
CREATED:20240222T062742Z
LAST-MODIFIED:20240222T062742Z
UID:21525-1732262400-1732294800@graceacademydimapur.com
SUMMARY:Reading Competition (Class B)\, 2024
DESCRIPTION: Reading Competition for Class B\, will be held on 22nd of November\, 2024. This event will provide students with a platform to showcase their reading skills and fluency. All students in Class B will have the opportunity to participate and will be given a passage to read aloud during the competition. This activity aims to promote literacy\, comprehension\, and confidence in reading among our students.
URL:https://graceacademydimapur.com/event/reading-competition-class-b-2024/
END:VEVENT
BEGIN:VEVENT
DTSTART;TZID=Asia/Kolkata:20241116T080000
DTEND;TZID=Asia/Kolkata:20241116T170000
DTSTAMP:20260424T205048
CREATED:20240219T084146Z
LAST-MODIFIED:20240219T084146Z
UID:21488-1731744000-1731776400@graceacademydimapur.com
SUMMARY:Reading Competition (Class 3)\, 2024
DESCRIPTION:Reading Competition for the students of class 3 will be held on 16th November 2024\, During the Reading Competition\, students will have the opportunity to demonstrate their reading proficiency by reading aloud a selected passage. Emphasis will be placed on accuracy\, fluency\, expression\, and comprehension as students bring the text to life through their oral presentations. \nThis competition will serve as a celebration of literacy and a recognition of the progress students have made in developing their reading skills. Students will also build confidence in their ability to read independently\, comprehend complex texts\, and express themselves effectively.
URL:https://graceacademydimapur.com/event/reading-competition-class-3-2024/
END:VEVENT
BEGIN:VEVENT
DTSTART;TZID=Asia/Kolkata:20241108T080000
DTEND;TZID=Asia/Kolkata:20241108T170000
DTSTAMP:20260424T205048
CREATED:20240222T053431Z
LAST-MODIFIED:20240222T053431Z
UID:21523-1731052800-1731085200@graceacademydimapur.com
SUMMARY:Spelling Bee Competition (Class B)\, 2024
DESCRIPTION:Spelling Bee Competition for Class B\, scheduled for the 8th of November\, 2024. This event will provide an opportunity for students to showcase their spelling abilities and compete in a friendly and challenging environment. Participants will demonstrate their mastery of spelling by correctly spelling words given to them during the competition. The Spelling Bee aims to promote literacy\, vocabulary\, and confidence among our students.
URL:https://graceacademydimapur.com/event/spelling-bee-competition-class-b-2024/
END:VEVENT
BEGIN:VEVENT
DTSTART;TZID=Asia/Kolkata:20241102T080000
DTEND;TZID=Asia/Kolkata:20241102T170000
DTSTAMP:20260424T205048
CREATED:20240219T083314Z
LAST-MODIFIED:20240219T083314Z
UID:21484-1730534400-1730566800@graceacademydimapur.com
SUMMARY:Reading Competition (Class 1 & 2)\, 2024
DESCRIPTION:Reading competition for the students of class 1 & 2 will be held on 2nd of November\, this event will provide a platform for our young readers to showcase their literacy skills and fluency in a supportive and encouraging environment. \nDuring the Reading Competition\, students will have the opportunity to demonstrate their reading proficiency by reading aloud a selected passage. Emphasis will be placed not only on accuracy but also on fluency\, expression\, and punctuation usage\, including the correct placement of commas. \nThis competition serves as a celebration of literacy and a recognition of the importance of developing strong reading skills at an early age\, students will strengthen their decoding abilities\, expand their vocabulary\, and develop a deeper appreciation for the written word.
URL:https://graceacademydimapur.com/event/reading-competition-class-1-2-2024/
END:VEVENT
BEGIN:VEVENT
DTSTART;TZID=Asia/Kolkata:20241008T080000
DTEND;TZID=Asia/Kolkata:20241008T170000
DTSTAMP:20260424T205048
CREATED:20240219T081624Z
LAST-MODIFIED:20240219T081624Z
UID:21478-1728374400-1728406800@graceacademydimapur.com
SUMMARY:Science Exhibition (Class 1 to 8)\, 2024
DESCRIPTION:Science Exhibition 2024 will be held on 8th October\, this eagerly anticipated event will showcase the scientific talents and discoveries of students from classes 1 to 8. With all students participating and divided into groups\, this exhibition promises to be a celebration of scientific inquiry and exploration. \nThe Science Exhibition provides a platform for students to explore and showcase their scientific knowledge\, curiosity\, and creativity. Through interactive displays\, hands-on experiments\, and innovative projects\, students will delve into a wide range of scientific concepts and phenomena\, spanning the fields of physics\, chemistry\, biology\, environmental science\, and more. \nThe Students will have the opportunity to demonstrate their understanding of scientific principles through engaging demonstrations and presentations. Whether it’s showcasing a simple machine\, conducting a chemistry experiment\, or exploring the wonders of the natural world\, every group will have the chance to captivate and inspire their audience with their scientific discoveries.
URL:https://graceacademydimapur.com/event/science-exhibition-class-1-to-8-2024/
END:VEVENT
BEGIN:VEVENT
DTSTART;TZID=Asia/Kolkata:20241007T080000
DTEND;TZID=Asia/Kolkata:20241007T170000
DTSTAMP:20260424T205048
CREATED:20240222T053034Z
LAST-MODIFIED:20240222T053034Z
UID:21521-1728288000-1728320400@graceacademydimapur.com
SUMMARY:Exhibition (Class Nursery)\, 2024
DESCRIPTION:Exhibition for Class Nursery\, will be held on 7th of October\, 2024. This event will showcase the creativity and learning achievements of our youngest students. All students in Class Nursery will have the opportunity to participate and share their projects\, artwork\, and other displays. This exhibition not only celebrates the children’s accomplishments but also provides a valuable learning experience as they engage with their peers and present their work to parents and guests.
URL:https://graceacademydimapur.com/event/exhibition-class-nursery-2024/
END:VEVENT
BEGIN:VEVENT
DTSTART;TZID=Asia/Kolkata:20241003T080000
DTEND;TZID=Asia/Kolkata:20241003T170000
DTSTAMP:20260424T205048
CREATED:20240222T042201Z
LAST-MODIFIED:20250129T042036Z
UID:21517-1727942400-1727974800@graceacademydimapur.com
SUMMARY:Math Quiz (Class B)\, 2025
DESCRIPTION:Math Quiz for Class B will be held on 17th of October\, 2025. This exciting competition will engage our students in a dynamic learning experience focused on mathematics. Students will be divided into groups and challenged with a series of math questions designed to test their problem-solving skills and mathematical knowledge. Through this interactive quiz format\, students will have the opportunity to apply mathematical concepts in a fun and competitive environment\, fostering critical thinking and teamwork skills.
URL:https://graceacademydimapur.com/event/math-quiz-class-b-2024/
END:VEVENT
BEGIN:VEVENT
DTSTART;TZID=Asia/Kolkata:20240830T080000
DTEND;TZID=Asia/Kolkata:20240830T170000
DTSTAMP:20260424T205048
CREATED:20240219T074935Z
LAST-MODIFIED:20240523T060036Z
UID:21468-1725004800-1725037200@graceacademydimapur.com
SUMMARY:Math Exhibition (Class 1 to 4)\, 2024
DESCRIPTION:The Math Exhibition 2024\, for students from classes 1 to 4\, is set to captivate minds and ignite curiosity on the 30th of August. This eagerly awaited exhibition promises an inclusive and enriching experience where every student will have the chance to participate and shine. The Math Exhibition is not merely a showcase of mathematical concepts; it’s a celebration of creativity\, exploration\, and discovery. With a wide range of interactive displays\, engaging activities\, and collaborative projects\, students will embark on a journey of mathematical exploration.
URL:https://graceacademydimapur.com/event/math-exhibition-class-1-to-4-2024/
END:VEVENT
BEGIN:VEVENT
DTSTART;TZID=Asia/Kolkata:20240812T080000
DTEND;TZID=Asia/Kolkata:20240812T170000
DTSTAMP:20260424T205048
CREATED:20240221T050144Z
LAST-MODIFIED:20240221T050144Z
UID:21509-1723449600-1723482000@graceacademydimapur.com
SUMMARY:Show and Tell Competition (Kindergarten Section)\, 2024
DESCRIPTION:Show and Tell Competition for the Kindergarten Section\, will be held on 12th of August\, 2024. This event will provide a wonderful opportunity for the students to showcase their creativity and communication skills. Each student will have the chance to speak about their favorite toys\, traditional attire\, or any other topic. Show and Tell Competition will not only encourage self-expression but also foster confidence and public speaking skills in our young learners.
URL:https://graceacademydimapur.com/event/show-and-tell-competition-kindergarten-section-2024/
END:VEVENT
BEGIN:VEVENT
DTSTART;TZID=Asia/Kolkata:20240705T080000
DTEND;TZID=Asia/Kolkata:20240705T170000
DTSTAMP:20260424T205048
CREATED:20240221T083119Z
LAST-MODIFIED:20240221T083119Z
UID:21513-1720166400-1720198800@graceacademydimapur.com
SUMMARY:Kindergarten Supermarket (Class A & B)\, 2024
DESCRIPTION:Kindergarten Supermarket for Class A and B\, will be held on 5th of July\, 2024. This exciting activity will provide the students with a hands-on learning experience in a simulated supermarket environment. All students from Class A and B will have the opportunity to participate\, as they will be divided into groups to operate their own “stores” and sell various goods and items. Through this experience\, students will not only learn about the concept of buying and selling but also develop important skills such as calculation\, decision-making\, and teamwork. This immersive learning opportunity aims to make the learning process enjoyable and engaging for the young learners while equipping them with practical skills that will benefit them in their academic journey and beyond.
URL:https://graceacademydimapur.com/event/kindergarten-supermarket-class-a-b-2024/
END:VEVENT
BEGIN:VEVENT
DTSTART;TZID=Asia/Kolkata:20240601T080000
DTEND;TZID=Asia/Kolkata:20240601T170000
DTSTAMP:20260424T205048
CREATED:20240219T070434Z
LAST-MODIFIED:20240219T070434Z
UID:21456-1717228800-1717261200@graceacademydimapur.com
SUMMARY:Mental Aptitude Competition (Class 5 to 8)\, 2024
DESCRIPTION:Mental aptitude competitions stand as a cornerstone for students in classes 5 to 8\, offering a platform to exhibit their cognitive prowess\, problem-solving acumen\, and creative flair. Set to take place on the 1st of June\, 2024\, the impending competition pledges a dynamic environment conducive to the participation and brilliance of all students.
URL:https://graceacademydimapur.com/event/mental-aptitude-competition-class-5-to-8-2024/
END:VEVENT
BEGIN:VEVENT
DTSTART;TZID=Asia/Kolkata:20240420T080000
DTEND;TZID=Asia/Kolkata:20240420T170000
DTSTAMP:20260424T205048
CREATED:20240221T043856Z
LAST-MODIFIED:20240221T043930Z
UID:21503-1713600000-1713632400@graceacademydimapur.com
SUMMARY:Science Exhibition (Class B)\, 2024
DESCRIPTION:Science Exhibition for the students of Class B will be an excellent opportunity to showcase their creativity and scientific knowledge through various projects and models scheduled to take place on the 20th of April\, 2024. Students will be divided into groups and will present their projects and models\, demonstrating their understanding of scientific concepts and their ability to apply them practically. All students will be given the opportunity to participate actively in this exhibition\, as it will not only enhance their learning experience but also foster their curiosity and passion for science.
URL:https://graceacademydimapur.com/event/science-exhibition-class-b-2024/
END:VEVENT
BEGIN:VEVENT
DTSTART;TZID=Asia/Kolkata:20240319T080000
DTEND;TZID=Asia/Kolkata:20240319T170000
DTSTAMP:20260424T205048
CREATED:20240221T042818Z
LAST-MODIFIED:20240221T042818Z
UID:21501-1710835200-1710867600@graceacademydimapur.com
SUMMARY:Singing Competition (Kindergarten Section)\, 2024
DESCRIPTION:Singing Competition for the students of Kindergarten Section will be held on 19th March\, 2024. This event will showcase the youngest students’ vocal talents and their boundless enthusiasm for music. All students in the Kindergarten Section will have the wonderful opportunity to present a song of their choice during the competition. This inclusive approach ensures that every child has a chance to express themselves through music\, fostering their creativity\, confidence\, and love for performing arts.
URL:https://graceacademydimapur.com/event/singing-competition-kindergarten-section-2024/
END:VEVENT
BEGIN:VEVENT
DTSTART;TZID=Asia/Kolkata:20240217T000000
DTEND;TZID=Asia/Kolkata:20240217T000000
DTSTAMP:20260424T205048
CREATED:20240219T042257Z
LAST-MODIFIED:20240219T042347Z
UID:21442-1708128000-1708128000@graceacademydimapur.com
SUMMARY:Art Competition (Class 1 to 8)\, 2024
DESCRIPTION:Art competition for primary section will be held on 17th February 2024\, where all the students of class 1 to 8 will be taking part and the students will be judged on the following criteria: \n\nUnderstanding of the Theme: Does the artwork reflect an understanding of the “My Favorite Season” theme? \nCreativity: Judges will look at the originality of the idea and how imaginatively it’s been executed. Does the artwork demonstrate creative thinking and offer a unique perspective on the theme?\nArtistic Skill: This is an evaluation of the student’s technical ability\, such as use of color\, line\, texture\, shape\, and other elements of art.\nComposition: This refers to how well the elements of the artwork are arranged\, including balance\, symmetry\, contrast\, and unity.\nClarity of Presentation: The artwork should be neat and the idea should be clear to the viewer without needing additional explanation.\nStorytelling: Does the artwork successfully tell a story about the given theme? Does it captivate the viewer’s interest and curiosity?
URL:https://graceacademydimapur.com/event/art-competition-class-1-to-8-2024/
END:VEVENT
BEGIN:VEVENT
DTSTART;TZID=Asia/Kolkata:20231129T000000
DTEND;TZID=Asia/Kolkata:20231129T000000
DTSTAMP:20260424T205048
CREATED:20230223T050525Z
LAST-MODIFIED:20230223T050525Z
UID:12248-1701216000-1701216000@graceacademydimapur.com
SUMMARY:Annual Day (Class 1 to 7)\, 2023
DESCRIPTION:“Annual Day 2023” for the students of primary section will be celebrated on 29th November\, 2023. During the “Annual Day”\, the students will be given platform to showcase their learning and talents. Students will perform on various items such as dances\, drama\, solo and group songs\, choreography\, musical piece\, etc. \nTeachers and parents will also see the progress of the students on their learning throughout the year. \nThe school warmly welcome each and every parent\, guardian and well-wisher to be a part of the “Annual Day”.
URL:https://graceacademydimapur.com/event/annual-day-class-1-to-7-2023/
END:VEVENT
BEGIN:VEVENT
DTSTART;TZID=Asia/Kolkata:20231121T080000
DTEND;TZID=Asia/Kolkata:20231121T170000
DTSTAMP:20260424T205048
CREATED:20230223T073656Z
LAST-MODIFIED:20230223T073656Z
UID:12277-1700553600-1700586000@graceacademydimapur.com
SUMMARY:Reading Competition (Class B)\, 2023
DESCRIPTION:Reading Competition for the students of Class- B will be held on 21st November\, 2023.
URL:https://graceacademydimapur.com/event/reading-competition-class-b-2023/
END:VEVENT
BEGIN:VEVENT
DTSTART;TZID=Asia/Kolkata:20231114T080000
DTEND;TZID=Asia/Kolkata:20231114T170000
DTSTAMP:20260424T205048
CREATED:20230223T073339Z
LAST-MODIFIED:20230223T074445Z
UID:12275-1699948800-1699981200@graceacademydimapur.com
SUMMARY:Spelling Bee Competition (Class B)\, 2023
DESCRIPTION:Spelling Bee Competition for the students of Class- B will be held on 14th November\, 2023.
URL:https://graceacademydimapur.com/event/spelling-bee-competition-class-b-2023/
END:VEVENT
END:VCALENDAR