BEGIN:VCALENDAR
VERSION:2.0
PRODID:-//Grace Academy - ECPv6.15.20//NONSGML v1.0//EN
CALSCALE:GREGORIAN
METHOD:PUBLISH
X-WR-CALNAME:Grace Academy
X-ORIGINAL-URL:https://graceacademydimapur.com
X-WR-CALDESC:Events for Grace Academy
REFRESH-INTERVAL;VALUE=DURATION:PT1H
X-Robots-Tag:noindex
X-PUBLISHED-TTL:PT1H
BEGIN:VTIMEZONE
TZID:Asia/Kolkata
BEGIN:STANDARD
TZOFFSETFROM:+0530
TZOFFSETTO:+0530
TZNAME:IST
DTSTART:20220101T000000
END:STANDARD
END:VTIMEZONE
BEGIN:VEVENT
DTSTART;TZID=Asia/Kolkata:20230401T080000
DTEND;TZID=Asia/Kolkata:20230401T170000
DTSTAMP:20260426T095745
CREATED:20230208T072238Z
LAST-MODIFIED:20230223T045108Z
UID:11966-1680336000-1680368400@graceacademydimapur.com
SUMMARY:Essay Writing Competition (Class 5\, 6 & 7)\, 2023
DESCRIPTION:Essay writing competition will be held on 1st April 2023\, where the students of class 5\, 6 & 7 will take part.
URL:https://graceacademydimapur.com/event/essay-writing-competition-class-5-6-7-2023/
END:VEVENT
BEGIN:VEVENT
DTSTART;TZID=Asia/Kolkata:20230415T080000
DTEND;TZID=Asia/Kolkata:20230415T170000
DTSTAMP:20260426T095745
CREATED:20230208T072553Z
LAST-MODIFIED:20230223T045011Z
UID:11968-1681545600-1681578000@graceacademydimapur.com
SUMMARY:Story Writing Competition (Class 1 to 7)\, 2023
DESCRIPTION:Story writing competition will be held on 15th April 2023\, where all the students of primary section will be given the opportunity to participate.
URL:https://graceacademydimapur.com/event/story-writing-competition-class-1-to-7/
END:VEVENT
END:VCALENDAR